Package: hapmap100khind Version: 1.51.0 Command: /home/biocbuild/bbs-3.22-bioc/R/bin/R CMD INSTALL hapmap100khind StartedAt: 2025-07-15 10:55:40 -0400 (Tue, 15 Jul 2025) EndedAt: 2025-07-15 10:55:42 -0400 (Tue, 15 Jul 2025) EllapsedTime: 2.0 seconds RetCode: 0 Status: OK