Package: hapmap500knsp Version: 1.51.0 Command: /home/biocbuild/bbs-3.22-bioc/R/bin/R CMD build --keep-empty-dirs --no-resave-data hapmap500knsp StartedAt: 2025-07-10 11:21:13 -0400 (Thu, 10 Jul 2025) EndedAt: 2025-07-10 11:23:53 -0400 (Thu, 10 Jul 2025) EllapsedTime: 160.7 seconds RetCode: 0 Status: OK PackageFile: hapmap500knsp_1.51.0.tar.gz PackageFileSize: 80.39 MiB