Package: hapmap500ksty Version: 1.51.0 Command: /home/biocbuild/bbs-3.22-bioc/R/bin/R CMD build --keep-empty-dirs --no-resave-data hapmap500ksty StartedAt: 2025-07-10 11:21:28 -0400 (Thu, 10 Jul 2025) EndedAt: 2025-07-10 11:24:03 -0400 (Thu, 10 Jul 2025) EllapsedTime: 154.8 seconds RetCode: 0 Status: OK PackageFile: hapmap500ksty_1.51.0.tar.gz PackageFileSize: 77.63 MiB