Package: hapmapsnp6 Version: 1.51.0 Command: /home/biocbuild/bbs-3.22-bioc/R/bin/R CMD build --keep-empty-dirs --no-resave-data hapmapsnp6 StartedAt: 2025-07-10 11:21:54 -0400 (Thu, 10 Jul 2025) EndedAt: 2025-07-10 11:26:00 -0400 (Thu, 10 Jul 2025) EllapsedTime: 246.2 seconds RetCode: 0 Status: OK PackageFile: hapmapsnp6_1.51.0.tar.gz PackageFileSize: 263.2 MiB