Package: harbChIP Version: 1.47.0 Command: /home/biocbuild/bbs-3.22-bioc/R/bin/R CMD INSTALL harbChIP StartedAt: 2025-07-15 10:56:30 -0400 (Tue, 15 Jul 2025) EndedAt: 2025-07-15 10:56:45 -0400 (Tue, 15 Jul 2025) EllapsedTime: 14.3 seconds RetCode: 0 Status: OK