Package: healthyFlowData Version: 1.47.0 Command: /home/biocbuild/bbs-3.22-bioc/R/bin/R CMD build --keep-empty-dirs --no-resave-data healthyFlowData StartedAt: 2025-07-17 11:22:48 -0400 (Thu, 17 Jul 2025) EndedAt: 2025-07-17 11:22:57 -0400 (Thu, 17 Jul 2025) EllapsedTime: 8.7 seconds RetCode: 0 Status: OK PackageFile: healthyFlowData_1.47.0.tar.gz PackageFileSize: 10.89 MiB