Package: healthyFlowData Version: 1.47.0 Command: /home/biocbuild/bbs-3.22-bioc/R/bin/R CMD INSTALL healthyFlowData StartedAt: 2025-07-17 10:56:31 -0400 (Thu, 17 Jul 2025) EndedAt: 2025-07-17 10:56:34 -0400 (Thu, 17 Jul 2025) EllapsedTime: 3.7 seconds RetCode: 0 Status: OK