Package: hgu133plus2CellScore Version: 1.29.0 Command: /home/biocbuild/bbs-3.22-bioc/R/bin/R CMD build --keep-empty-dirs --no-resave-data hgu133plus2CellScore StartedAt: 2025-07-15 11:23:13 -0400 (Tue, 15 Jul 2025) EndedAt: 2025-07-15 11:23:42 -0400 (Tue, 15 Jul 2025) EllapsedTime: 29.2 seconds RetCode: 0 Status: OK PackageFile: hgu133plus2CellScore_1.29.0.tar.gz PackageFileSize: 41 MiB