Package: hgu2beta7 Version: 1.49.0 Command: /home/biocbuild/bbs-3.22-bioc/R/bin/R CMD build --keep-empty-dirs --no-resave-data hgu2beta7 StartedAt: 2025-07-17 11:23:12 -0400 (Thu, 17 Jul 2025) EndedAt: 2025-07-17 11:23:14 -0400 (Thu, 17 Jul 2025) EllapsedTime: 2.0 seconds RetCode: 0 Status: OK PackageFile: hgu2beta7_1.49.0.tar.gz PackageFileSize: 6.409 MiB