Package: homosapienDEE2CellScore Version: 1.5.0 Command: /home/biocbuild/bbs-3.22-bioc/R/bin/R CMD build --keep-empty-dirs --no-resave-data homosapienDEE2CellScore StartedAt: 2025-07-15 11:24:16 -0400 (Tue, 15 Jul 2025) EndedAt: 2025-07-15 11:27:28 -0400 (Tue, 15 Jul 2025) EllapsedTime: 192.7 seconds RetCode: 0 Status: OK PackageFile: homosapienDEE2CellScore_1.5.0.tar.gz PackageFileSize: 256.8 KiB