Package: humanHippocampus2024 Version: 1.2.0 Command: /home/biocbuild/bbs-3.22-bioc/R/bin/R CMD INSTALL humanHippocampus2024 StartedAt: 2025-11-20 11:00:01 -0500 (Thu, 20 Nov 2025) EndedAt: 2025-11-20 11:00:29 -0500 (Thu, 20 Nov 2025) EllapsedTime: 28.2 seconds RetCode: 0 Status: OK