Package: imcdatasets Version: 1.17.0 Command: /home/biocbuild/bbs-3.22-bioc/R/bin/R CMD build --keep-empty-dirs --no-resave-data imcdatasets StartedAt: 2025-07-15 11:24:54 -0400 (Tue, 15 Jul 2025) EndedAt: 2025-07-15 11:27:22 -0400 (Tue, 15 Jul 2025) EllapsedTime: 148.1 seconds RetCode: 0 Status: OK PackageFile: imcdatasets_1.17.0.tar.gz PackageFileSize: 1.629 MiB