Package: imcdatasets Version: 1.17.0 Command: /home/biocbuild/bbs-3.22-bioc/R/bin/R CMD INSTALL imcdatasets StartedAt: 2025-07-15 10:59:22 -0400 (Tue, 15 Jul 2025) EndedAt: 2025-07-15 11:00:13 -0400 (Tue, 15 Jul 2025) EllapsedTime: 51.6 seconds RetCode: 0 Status: OK