Package: kidpack Version: 1.52.0 Command: /home/biocbuild/bbs-3.22-bioc/R/bin/R CMD build --keep-empty-dirs --no-resave-data kidpack StartedAt: 2025-11-20 11:28:59 -0500 (Thu, 20 Nov 2025) EndedAt: 2025-11-20 11:29:12 -0500 (Thu, 20 Nov 2025) EllapsedTime: 12.7 seconds RetCode: 0 Status: OK PackageFile: kidpack_1.52.0.tar.gz PackageFileSize: 18.39 MiB