Package: leeBamViews Version: 1.45.0 Command: /home/biocbuild/bbs-3.22-bioc/R/bin/R CMD INSTALL leeBamViews StartedAt: 2025-07-17 11:00:47 -0400 (Thu, 17 Jul 2025) EndedAt: 2025-07-17 11:01:16 -0400 (Thu, 17 Jul 2025) EllapsedTime: 29.0 seconds RetCode: 0 Status: OK