Package: mCSEAdata Version: 1.29.0 Command: /home/biocbuild/bbs-3.22-bioc/R/bin/R CMD build --keep-empty-dirs --no-resave-data mCSEAdata StartedAt: 2025-07-15 11:28:07 -0400 (Tue, 15 Jul 2025) EndedAt: 2025-07-15 11:29:21 -0400 (Tue, 15 Jul 2025) EllapsedTime: 74.8 seconds RetCode: 0 Status: OK PackageFile: mCSEAdata_1.29.0.tar.gz PackageFileSize: 15.84 MiB