Package: maqcExpression4plex Version: 1.53.0 Command: /home/biocbuild/bbs-3.22-bioc/R/bin/R CMD INSTALL maqcExpression4plex StartedAt: 2025-07-15 10:55:27 -0400 (Tue, 15 Jul 2025) EndedAt: 2025-07-15 10:55:29 -0400 (Tue, 15 Jul 2025) EllapsedTime: 1.4 seconds RetCode: 0 Status: OK