Package: methylclockData Version: 1.17.0 Command: /home/biocbuild/bbs-3.22-bioc/R/bin/R CMD INSTALL methylclockData StartedAt: 2025-07-15 11:03:05 -0400 (Tue, 15 Jul 2025) EndedAt: 2025-07-15 11:03:43 -0400 (Tue, 15 Jul 2025) EllapsedTime: 37.5 seconds RetCode: 0 Status: OK