Package: miRcompData Version: 1.39.0 Command: /home/biocbuild/bbs-3.22-bioc/R/bin/R CMD INSTALL miRcompData StartedAt: 2025-07-15 10:55:13 -0400 (Tue, 15 Jul 2025) EndedAt: 2025-07-15 10:55:15 -0400 (Tue, 15 Jul 2025) EllapsedTime: 2.0 seconds RetCode: 0 Status: OK