Package: microbiomeDataSets Version: 1.17.0 Command: /home/biocbuild/bbs-3.22-bioc/R/bin/R CMD check --install=check:microbiomeDataSets.install-out.txt --library=/home/biocbuild/bbs-3.22-bioc/R/site-library --timings microbiomeDataSets_1.17.0.tar.gz StartedAt: 2025-07-17 12:42:14 -0400 (Thu, 17 Jul 2025) EndedAt: 2025-07-17 12:47:26 -0400 (Thu, 17 Jul 2025) EllapsedTime: 311.8 seconds RetCode: 0 Status: OK CheckDir: microbiomeDataSets.Rcheck Warnings: 0