Package: msPurityData Version: 1.37.0 Command: /home/biocbuild/bbs-3.22-bioc/R/bin/R CMD build --keep-empty-dirs --no-resave-data msPurityData StartedAt: 2025-07-15 11:31:10 -0400 (Tue, 15 Jul 2025) EndedAt: 2025-07-15 11:33:36 -0400 (Tue, 15 Jul 2025) EllapsedTime: 146.0 seconds RetCode: 0 Status: OK PackageFile: msPurityData_1.37.0.tar.gz PackageFileSize: 233.5 MiB