Package: mtbls2 Version: 1.39.0 Command: /home/biocbuild/bbs-3.22-bioc/R/bin/R CMD build --keep-empty-dirs --no-resave-data mtbls2 StartedAt: 2025-07-15 11:31:17 -0400 (Tue, 15 Jul 2025) EndedAt: 2025-07-15 11:32:33 -0400 (Tue, 15 Jul 2025) EllapsedTime: 75.3 seconds RetCode: 0 Status: OK PackageFile: mtbls2_1.39.0.tar.gz PackageFileSize: 183.1 MiB