Package: mtbls2 Version: 1.39.0 Command: /home/biocbuild/bbs-3.22-bioc/R/bin/R CMD INSTALL mtbls2 StartedAt: 2025-07-15 10:55:36 -0400 (Tue, 15 Jul 2025) EndedAt: 2025-07-15 10:56:12 -0400 (Tue, 15 Jul 2025) EllapsedTime: 36.1 seconds RetCode: 0 Status: OK