Package: muSpaData Version: 1.2.0 Command: /home/biocbuild/bbs-3.22-bioc/R/bin/R CMD build --keep-empty-dirs --no-resave-data muSpaData StartedAt: 2025-11-20 11:35:46 -0500 (Thu, 20 Nov 2025) EndedAt: 2025-11-20 11:37:03 -0500 (Thu, 20 Nov 2025) EllapsedTime: 76.5 seconds RetCode: 0 Status: OK PackageFile: muSpaData_1.2.0.tar.gz PackageFileSize: 582.8 KiB