Package: muSpaData Version: 1.2.0 Command: /home/biocbuild/bbs-3.22-bioc/R/bin/R CMD INSTALL muSpaData StartedAt: 2025-11-20 10:57:05 -0500 (Thu, 20 Nov 2025) EndedAt: 2025-11-20 10:57:19 -0500 (Thu, 20 Nov 2025) EllapsedTime: 13.7 seconds RetCode: 0 Status: OK