Package: multiWGCNAdata Version: 1.7.0 Command: /home/biocbuild/bbs-3.22-bioc/R/bin/R CMD build --keep-empty-dirs --no-resave-data multiWGCNAdata StartedAt: 2025-07-15 11:31:50 -0400 (Tue, 15 Jul 2025) EndedAt: 2025-07-15 11:32:16 -0400 (Tue, 15 Jul 2025) EllapsedTime: 25.6 seconds RetCode: 0 Status: OK PackageFile: multiWGCNAdata_1.7.0.tar.gz PackageFileSize: 221.1 KiB