Package: mvoutData Version: 1.46.0 Command: /home/biocbuild/bbs-3.22-bioc/R/bin/R CMD INSTALL mvoutData StartedAt: 2025-11-25 11:03:04 -0500 (Tue, 25 Nov 2025) EndedAt: 2025-11-25 11:03:34 -0500 (Tue, 25 Nov 2025) EllapsedTime: 30.9 seconds RetCode: 0 Status: OK