Package: nullrangesData Version: 1.15.0 Command: /home/biocbuild/bbs-3.22-bioc/R/bin/R CMD build --keep-empty-dirs --no-resave-data nullrangesData StartedAt: 2025-07-15 11:32:51 -0400 (Tue, 15 Jul 2025) EndedAt: 2025-07-15 11:33:39 -0400 (Tue, 15 Jul 2025) EllapsedTime: 48.5 seconds RetCode: 0 Status: OK PackageFile: nullrangesData_1.15.0.tar.gz PackageFileSize: 4.148 MiB