Package: octad.db Version: 1.11.0 Command: /home/biocbuild/bbs-3.22-bioc/R/bin/R CMD INSTALL octad.db StartedAt: 2025-07-10 10:56:54 -0400 (Thu, 10 Jul 2025) EndedAt: 2025-07-10 10:57:09 -0400 (Thu, 10 Jul 2025) EllapsedTime: 14.4 seconds RetCode: 0 Status: OK