Package: optimalFlowData Version: 1.21.0 Command: /home/biocbuild/bbs-3.22-bioc/R/bin/R CMD INSTALL optimalFlowData StartedAt: 2025-07-15 10:55:37 -0400 (Tue, 15 Jul 2025) EndedAt: 2025-07-15 10:56:05 -0400 (Tue, 15 Jul 2025) EllapsedTime: 27.8 seconds RetCode: 0 Status: OK