Package: orthosData Version: 1.8.0 Command: /home/biocbuild/bbs-3.22-bioc/R/bin/R CMD INSTALL orthosData StartedAt: 2025-11-13 10:58:36 -0500 (Thu, 13 Nov 2025) EndedAt: 2025-11-13 10:59:06 -0500 (Thu, 13 Nov 2025) EllapsedTime: 30.4 seconds RetCode: 0 Status: OK