Package: pasilla Version: 1.37.0 Command: /home/biocbuild/bbs-3.22-bioc/R/bin/R CMD INSTALL pasilla StartedAt: 2025-07-15 11:00:41 -0400 (Tue, 15 Jul 2025) EndedAt: 2025-07-15 11:01:12 -0400 (Tue, 15 Jul 2025) EllapsedTime: 30.6 seconds RetCode: 0 Status: OK