Package: pd.atdschip.tiling Version: 0.48.0 Command: /home/biocbuild/bbs-3.22-bioc/R/bin/R CMD INSTALL pd.atdschip.tiling StartedAt: 2025-11-20 11:00:40 -0500 (Thu, 20 Nov 2025) EndedAt: 2025-11-20 11:01:09 -0500 (Thu, 20 Nov 2025) EllapsedTime: 29.7 seconds RetCode: 0 Status: OK