Package: prostateCancerCamcap Version: 1.37.0 Command: /home/biocbuild/bbs-3.22-bioc/R/bin/R CMD build --keep-empty-dirs --no-resave-data prostateCancerCamcap StartedAt: 2025-07-15 11:34:59 -0400 (Tue, 15 Jul 2025) EndedAt: 2025-07-15 11:35:28 -0400 (Tue, 15 Jul 2025) EllapsedTime: 29.3 seconds RetCode: 0 Status: OK PackageFile: prostateCancerCamcap_1.37.0.tar.gz PackageFileSize: 46.88 MiB