Package: prostateCancerCamcap Version: 1.37.0 Command: /home/biocbuild/bbs-3.22-bioc/R/bin/R CMD INSTALL prostateCancerCamcap StartedAt: 2025-07-15 10:56:04 -0400 (Tue, 15 Jul 2025) EndedAt: 2025-07-15 10:56:21 -0400 (Tue, 15 Jul 2025) EllapsedTime: 17.3 seconds RetCode: 0 Status: OK