Package: prostateCancerTaylor Version: 1.37.0 Command: /home/biocbuild/bbs-3.22-bioc/R/bin/R CMD INSTALL prostateCancerTaylor StartedAt: 2025-07-15 10:56:03 -0400 (Tue, 15 Jul 2025) EndedAt: 2025-07-15 10:56:12 -0400 (Tue, 15 Jul 2025) EllapsedTime: 8.9 seconds RetCode: 0 Status: OK