Package: prostateCancerVarambally Version: 1.37.0 Command: /home/biocbuild/bbs-3.22-bioc/R/bin/R CMD INSTALL prostateCancerVarambally StartedAt: 2025-07-15 10:56:00 -0400 (Tue, 15 Jul 2025) EndedAt: 2025-07-15 10:56:06 -0400 (Tue, 15 Jul 2025) EllapsedTime: 5.6 seconds RetCode: 0 Status: OK