Package: pumadata Version: 2.45.0 Command: /home/biocbuild/bbs-3.22-bioc/R/bin/R CMD INSTALL pumadata StartedAt: 2025-07-10 11:02:53 -0400 (Thu, 10 Jul 2025) EndedAt: 2025-07-10 11:03:28 -0400 (Thu, 10 Jul 2025) EllapsedTime: 35.0 seconds RetCode: 0 Status: OK