Package: qPLEXdata Version: 1.28.0 Command: /home/biocbuild/bbs-3.22-bioc/R/bin/R CMD build --keep-empty-dirs --no-resave-data qPLEXdata StartedAt: 2025-11-20 11:40:23 -0500 (Thu, 20 Nov 2025) EndedAt: 2025-11-20 11:41:15 -0500 (Thu, 20 Nov 2025) EllapsedTime: 52.0 seconds RetCode: 1 Status: ERROR PackageFile: None PackageFileSize: NA