Package: qPLEXdata Version: 1.28.0 Command: /home/biocbuild/bbs-3.22-bioc/R/bin/R CMD INSTALL qPLEXdata StartedAt: 2025-11-20 11:02:53 -0500 (Thu, 20 Nov 2025) EndedAt: 2025-11-20 11:03:39 -0500 (Thu, 20 Nov 2025) EllapsedTime: 45.9 seconds RetCode: 0 Status: OK