Back to Build/check report for BioC 3.22 experimental data
ABCDEFGHIJKLMNOPQ[R]STUVWXYZ

This page was generated on 2025-10-09 15:41 -0400 (Thu, 09 Oct 2025).

HostnameOSArch (*)R versionInstalled pkgs
nebbiolo2Linux (Ubuntu 24.04.3 LTS)x86_644.5.1 Patched (2025-08-23 r88802) -- "Great Square Root" 4854
Click on any hostname to see more info about the system (e.g. compilers)      (*) as reported by 'uname -p', except on Windows and Mac OS X

Package 339/433HostnameOS / ArchINSTALLBUILDCHECK
rRDPData 1.29.1  (landing page)
Michael Hahsler
Snapshot Date: 2025-10-09 07:30 -0400 (Thu, 09 Oct 2025)
git_url: https://git.bioconductor.org/packages/rRDPData
git_branch: devel
git_last_commit: 8985014
git_last_commit_date: 2025-10-08 08:10:50 -0400 (Wed, 08 Oct 2025)
nebbiolo2Linux (Ubuntu 24.04.3 LTS) / x86_64  OK    OK    OK  YES


INSTALL results for rRDPData on nebbiolo2

To the developers/maintainers of the rRDPData package:
- Use the following Renviron settings to reproduce errors and warnings.
- If 'R CMD check' started to fail recently on the Linux builder(s) over a missing dependency, add the missing dependency to 'Suggests:' in your DESCRIPTION file. See Renviron.bioc for more information.

raw results


Summary

Package: rRDPData
Version: 1.29.1
Command: /home/biocbuild/bbs-3.22-bioc/R/bin/R CMD INSTALL rRDPData
StartedAt: 2025-10-09 10:56:34 -0400 (Thu, 09 Oct 2025)
EndedAt: 2025-10-09 10:56:45 -0400 (Thu, 09 Oct 2025)
EllapsedTime: 10.8 seconds
RetCode: 0
Status:   OK  

Command output

##############################################################################
##############################################################################
###
### Running command:
###
###   /home/biocbuild/bbs-3.22-bioc/R/bin/R CMD INSTALL rRDPData
###
##############################################################################
##############################################################################


* installing to library ‘/home/biocbuild/bbs-3.22-bioc/R/site-library’
* installing *source* package ‘rRDPData’ ...
** this is package ‘rRDPData’ version ‘1.29.1’
** using staged installation
** R
** inst
** byte-compile and prepare package for lazy loading
Warning message:
In fun(libname, pkgname) :
  Package 'rRDP' is deprecated and will be removed from Bioconductor
  version 3.23
** help
*** installing help indices
** building package indices
** testing if installed package can be loaded from temporary location
Warning in fun(libname, pkgname) :
  Package 'rRDP' is deprecated and will be removed from Bioconductor
  version 3.23
Warning in fun(libname, pkgname) :
  Package 'rRDPData' is deprecated and will be removed from Bioconductor
  version 3.23
** testing if installed package can be loaded from final location
Warning in fun(libname, pkgname) :
  Package 'rRDP' is deprecated and will be removed from Bioconductor
  version 3.23
Warning in fun(libname, pkgname) :
  Package 'rRDPData' is deprecated and will be removed from Bioconductor
  version 3.23
** testing if installed package keeps a record of temporary installation path
* DONE (rRDPData)