Package: rcellminerData Version: 2.31.0 Command: /home/biocbuild/bbs-3.22-bioc/R/bin/R CMD build --keep-empty-dirs --no-resave-data rcellminerData StartedAt: 2025-07-15 11:35:59 -0400 (Tue, 15 Jul 2025) EndedAt: 2025-07-15 11:40:31 -0400 (Tue, 15 Jul 2025) EllapsedTime: 271.2 seconds RetCode: 0 Status: OK PackageFile: rcellminerData_2.31.0.tar.gz PackageFileSize: 382 MiB