Package: rcellminerData Version: 2.31.0 Command: /home/biocbuild/bbs-3.22-bioc/R/bin/R CMD INSTALL rcellminerData StartedAt: 2025-07-15 10:56:00 -0400 (Tue, 15 Jul 2025) EndedAt: 2025-07-15 10:56:12 -0400 (Tue, 15 Jul 2025) EllapsedTime: 12.5 seconds RetCode: 0 Status: OK