Package: scMultiome Version: 1.9.0 Command: /home/biocbuild/bbs-3.22-bioc/R/bin/R CMD build --keep-empty-dirs --no-resave-data scMultiome StartedAt: 2025-07-17 11:40:43 -0400 (Thu, 17 Jul 2025) EndedAt: 2025-07-17 11:41:40 -0400 (Thu, 17 Jul 2025) EllapsedTime: 56.5 seconds RetCode: 0 Status: OK PackageFile: scMultiome_1.9.0.tar.gz PackageFileSize: 359.8 KiB