Package: scRNAseq Version: 2.23.0 Command: /home/biocbuild/bbs-3.22-bioc/R/bin/R CMD INSTALL scRNAseq StartedAt: 2025-07-10 11:01:07 -0400 (Thu, 10 Jul 2025) EndedAt: 2025-07-10 11:01:51 -0400 (Thu, 10 Jul 2025) EllapsedTime: 44.5 seconds RetCode: 0 Status: OK