Package: scpdata Version: 1.17.1 Command: /home/biocbuild/bbs-3.22-bioc/R/bin/R CMD build --keep-empty-dirs --no-resave-data scpdata StartedAt: 2025-07-15 11:40:13 -0400 (Tue, 15 Jul 2025) EndedAt: 2025-07-15 11:41:10 -0400 (Tue, 15 Jul 2025) EllapsedTime: 56.6 seconds RetCode: 0 Status: OK PackageFile: scpdata_1.17.1.tar.gz PackageFileSize: 699.1 KiB