Package: signatureSearchData Version: 1.23.0 Command: /home/biocbuild/bbs-3.22-bioc/R/bin/R CMD build --keep-empty-dirs --no-resave-data signatureSearchData StartedAt: 2025-07-15 11:41:30 -0400 (Tue, 15 Jul 2025) EndedAt: 2025-07-15 11:41:45 -0400 (Tue, 15 Jul 2025) EllapsedTime: 14.9 seconds RetCode: 0 Status: OK PackageFile: signatureSearchData_1.23.0.tar.gz PackageFileSize: 656.8 KiB