Package: spatialLIBD Version: 1.21.5 Command: /home/biocbuild/bbs-3.22-bioc/R/bin/R CMD INSTALL spatialLIBD StartedAt: 2025-07-15 11:01:57 -0400 (Tue, 15 Jul 2025) EndedAt: 2025-07-15 11:02:44 -0400 (Tue, 15 Jul 2025) EllapsedTime: 46.5 seconds RetCode: 0 Status: OK