Package: spqnData Version: 1.22.0 Command: /home/biocbuild/bbs-3.22-bioc/R/bin/R CMD INSTALL spqnData StartedAt: 2025-11-20 11:00:04 -0500 (Thu, 20 Nov 2025) EndedAt: 2025-11-20 11:00:20 -0500 (Thu, 20 Nov 2025) EllapsedTime: 15.7 seconds RetCode: 0 Status: OK