Package: stemHypoxia Version: 1.46.0 Command: /home/biocbuild/bbs-3.22-bioc/R/bin/R CMD INSTALL stemHypoxia StartedAt: 2025-10-30 10:56:09 -0400 (Thu, 30 Oct 2025) EndedAt: 2025-10-30 10:56:10 -0400 (Thu, 30 Oct 2025) EllapsedTime: 1.4 seconds RetCode: 0 Status: OK